BEGIN:VCALENDAR
VERSION:2.0
X-WR-CALNAME:www.indybay.org
PRODID:-//indybay/ical// v1.0//EN
BEGIN:VEVENT
UID:Indybay-18409255
SEQUENCE:18422048
CREATED:20070503T190800Z
DESCRIPTION:Help support the troop who refuse to fight by helping Courage to Resist get 
 our national fund raising letter in to the mail. We'll provide the pizza 
 and soda, but we need your help with affixing stamps and labels, stuffing 
 and sorting, etc. However, there will be no licking required!\n 
 https://www.indybay.org/newsitems/2007/05/03/18409255.php
SUMMARY:Courage to Resist Pizza Mailing Party
LOCATION:3945 Opal Street, Oakland CA 94609. At the corner of 40th Street, near 
 Broadway. A short walk toward the hills from Macarthur BART.
URL:https://www.indybay.org/newsitems/2007/05/03/18409255.php
DTSTART:20070504T010000Z
DTEND:20070504T050000Z
END:VEVENT
END:VCALENDAR
