BEGIN:VCALENDAR
VERSION:2.0
X-WR-CALNAME:www.indybay.org
PRODID:-//indybay/ical// v1.0//EN
BEGIN:VEVENT
UID:Indybay-18408540
SEQUENCE:18421645
CREATED:20070502T220800Z
DESCRIPTION:RALLY FOR EQUAL PAY!!!\n\nCal Students working for Cal Dining get paid 
 $2.14/hr less than other workers doing the same work, including high school 
 students! Help us fight for equal pay.\n\nGather at 2pm and picket until 
 2:15pm\nWe will have speeches and a skit, ending at approximately 
 3pm\nPossible march after\n 
 https://www.indybay.org/newsitems/2007/05/02/18408540.php
SUMMARY:Cal Student Worker Rally
LOCATION:Sproul Plaza on the Berkeley campus (corner of Telegraph Ave and Bancroft 
 Way).
URL:https://www.indybay.org/newsitems/2007/05/02/18408540.php
DTSTART:20070504T210000Z
DTEND:20070504T223000Z
END:VEVENT
END:VCALENDAR
