BEGIN:VCALENDAR
VERSION:2.0
X-WR-CALNAME:www.indybay.org
PRODID:-//indybay/ical// v1.0//EN
BEGIN:VEVENT
UID:Indybay-18406974
SEQUENCE:18420258
CREATED:20070430T162800Z
DESCRIPTION:Santa Rosa and Petaluma Copwatch will present a short Know Your Rights and 
 Copwatch training, to prepare marchers to observe and interact with the 
 police for the day and the future. When we watch the cops everyone is 
 safer.\n\nEn preparación para la marcha, Santa Rosa y Petaluma Copwatch 
 presentaran un pequeño entrenamiento sobre nuestros derechos, los derechos 
 de la policía, y Copwatching, el acto de vigilar a la policía para 
 prevenir situaciones violentas.\n 
 https://www.indybay.org/newsitems/2007/04/30/18406974.php
SUMMARY:Santa Rosa: Sobre Nuestros Derechos/Know Your Rights Training
LOCATION:Corner of West Avenue and Sebastopol Road
URL:https://www.indybay.org/newsitems/2007/04/30/18406974.php
DTSTART:20070501T170000Z
DTEND:20070501T173000Z
END:VEVENT
END:VCALENDAR
