BEGIN:VCALENDAR
VERSION:2.0
X-WR-CALNAME:www.indybay.org
PRODID:-//indybay/ical// v1.0//EN
BEGIN:VEVENT
UID:Indybay-18405890
SEQUENCE:18418442
CREATED:20070427T175200Z
DESCRIPTION:Book event. Panel discussion with Loni Ding, Harvey Dong, Alex Saragoza, 
 Wesley Ueunten, Miriam Solis and Mary-Alice Waters on Pathfinder Press book 
 "Our History is Still Being Written, the Story of \nThree Chinese-Cuban 
 Generals in the Cuban Revolution." Refreshments - free and open to the 
 public. Sponsored by Multicultural Student Development, Chicano/Latino 
 Studies Program, Asian American Studies, African American Studies, Center 
 for Chinese Studies, Ethnic Studies Department, Pathfinder Books, and 
 Eastwind Books of Berkeley.\n 
 https://www.indybay.org/newsitems/2007/04/27/18405890.php
SUMMARY:Book event: 'Our History is Still Being Written, the Story of Three Chinese-Cuban Generals
LOCATION:University of California, Berkeley:Multicultural Center/Heller Lounge - 
 Martin Luther King Student Union (Telegraph Avenue and Bancroft Way)
URL:https://www.indybay.org/newsitems/2007/04/27/18405890.php
DTSTART:20070503T000000Z
DTEND:20070503T020000Z
END:VEVENT
END:VCALENDAR
