BEGIN:VCALENDAR
VERSION:2.0
X-WR-CALNAME:www.indybay.org
PRODID:-//indybay/ical// v1.0//EN
BEGIN:VEVENT
UID:Indybay-18405082
SEQUENCE:18417545
CREATED:20070426T001300Z
DESCRIPTION:People’s Hurricane Relief Fund (PHRF) organizers Darrel “Sess 4-5” 
 Warren and Kojo Livingston will be touring through California to raise 
 awareness about the ongoing plight of Hurricane Katrina Survivors and the 
 struggle for a just reconstruction and self-determination in the Gulf 
 Coast.\n\nThis tour comes at a very critical time in the struggle for a 
 just reconstruction in the Gulf Coast. It is preparation in many respects 
 for a major summer offensive being launched to expose the ongoing 
 injustices being committed against Internally Displaced Persons by the US 
 government and to advance their just claims for restitution and human 
 rights. PHRF strongly encourages all of its allies, supporters and justice 
 loving people in California to support and build the tour by attending the 
 events and spreading the word.\n 
 https://www.indybay.org/newsitems/2007/04/25/18405082.php
SUMMARY:Katrina Solidarity West Coast Tour
LOCATION:1433 Webster St. in Oakland; 2 blocks from 12th St. BART Station.
URL:https://www.indybay.org/newsitems/2007/04/25/18405082.php
DTSTART:20070429T010000Z
DTEND:20070429T010000Z
END:VEVENT
END:VCALENDAR
