BEGIN:VCALENDAR
VERSION:2.0
X-WR-CALNAME:www.indybay.org
PRODID:-//indybay/ical// v1.0//EN
BEGIN:VEVENT
UID:Indybay-18404243
SEQUENCE:18416645
CREATED:20070424T025900Z
DESCRIPTION:PSL Forum & Discussion:\n \nStudent Struggle in Chile\nLast year Chile saw 
 a fierce student movement that rocked the entire country. The students took 
 to the streets by the hundreds of thousands and demanded equal education 
 for all Chileans. See photos and video on the massive student 
 demonstrations and hear a report on how the massive movement 
 developed.\n\nEyewitness Philippines: Report from Mindanao\nHear an update 
 and eyewitness reportback on the struggle of Mindanao for 
 self-determination in the Philippines. Featured guest speaker from the 
 Mindanao-Bangsamoro Caucus. \n\nSponsored by Party for Socialism and 
 Liberation\n2489 Mission St. Rm. 28, San Francisco \n$3 - $5 donation 
 requested, no one turned away for lack of funds.\n(Refreshments served. 
 Cross street 21st. Near 24th St. BART. MUNI #14, 49, 26. Parking garage 
 located one block west on 21st. St. btwn. Mission & Valencia, parking cost 
 $2/hr.) \nFor more info, or to reserve free childcare (please call at least 
 one day in advance if you would like childcare) contact PSL at 
 415-821-6171.	 \n\n 
 https://www.indybay.org/newsitems/2007/04/23/18404243.php
SUMMARY:Forum: Eyewitness Philippines
LOCATION:2489 Mission St. Rm. 28, San Francisco 
URL:https://www.indybay.org/newsitems/2007/04/23/18404243.php
DTSTART:20070428T020000Z
DTEND:20070428T040000Z
END:VEVENT
END:VCALENDAR
