BEGIN:VCALENDAR
VERSION:2.0
X-WR-CALNAME:www.indybay.org
PRODID:-//indybay/ical// v1.0//EN
BEGIN:VEVENT
UID:Indybay-18403787
SEQUENCE:18416389
CREATED:20070423T043600Z
DESCRIPTION:NEW YORK TIMES BESTSELLING AUTHOR\nGREG PALAST\n\nARMED MADHOUSE: From 
 Baghdad to New Orleans -- \nSordid Secrets and Strange Tales of a White 
 House Gone Wild\n\nNEW LIVING EXPO\n@ Concourse Exhibition Center, Rm 
 2\n635 8th Street at Brannan\ntickets on sale now 
 @\nwww.newlivingexpo.com\n\nGreg Palast will be signing books at 3:30PM 
 before his scheduled 4PM talk due to a scheduling conflict in order to have 
 enough time to arrive to his evening event in San Jose.\n\nFor tour 
 information and a complete list of tour sponsors, visit 
 www.gregpalast.com\n\n 
 https://www.indybay.org/newsitems/2007/04/22/18403787.php
SUMMARY:SF: Greg Palast - From Baghdad To New Orleans
LOCATION:SAN FRANCISCO: NEW LIVING EXPO\n@ Concourse Exhibition Center, Rm 2\n635 
 8th Street at Brannan\n
URL:https://www.indybay.org/newsitems/2007/04/22/18403787.php
DTSTART:20070427T223000Z
DTEND:20070428T000000Z
END:VEVENT
END:VCALENDAR
