BEGIN:VCALENDAR
VERSION:2.0
X-WR-CALNAME:www.indybay.org
PRODID:-//indybay/ical// v1.0//EN
BEGIN:VEVENT
UID:Indybay-18403682
SEQUENCE:18416163
CREATED:20070422T224900Z
DESCRIPTION:On the occasion of Cinco de Mayo, we’ll attend to the profoundly 
 fractured state of Mexican civil society. For years, Greg Berger has been 
 the Other Cinema correspondent on the front lines there, appearing in the 
 flesh, doing live phone hook-ups, or sending up urgent communiqués to a 
 constituency hungry for news on the ground. Forming the core of this 
 screening are his new piece on the New Zapatista Movement, a couple of 
 commentaries on the electoral crisis, and a sneak preview of Jill (This Is 
 What Democracy Looks Like) Friedberg’s doc on the recent rebellion in 
 Oaxaca. \nPlus work from the collective Canal Seis de Julio.  Framing the 
 program with first-person testimony, extended Q&A, and an excerpt of her 
 own Oaxacan report, is artist-activist and veteran videographer Caitlin 
 Manning.\n\n https://www.indybay.org/newsitems/2007/04/22/18403682.php
SUMMARY:Dispatches from Rebel Mexico
LOCATION:ATA Gallery, 992 Valencia Street (at 21st St.)
URL:https://www.indybay.org/newsitems/2007/04/22/18403682.php
DTSTART:20070506T033000Z
DTEND:20070506T053000Z
END:VEVENT
END:VCALENDAR
