BEGIN:VCALENDAR
VERSION:2.0
X-WR-CALNAME:www.indybay.org
PRODID:-//indybay/ical// v1.0//EN
BEGIN:VEVENT
UID:Indybay-18401949
SEQUENCE:18414255
CREATED:20070420T075300Z
DESCRIPTION:A ONE HOUR DOCUMENTARY not about soldiers, not about governments, but about 
 Iraqi civilians and a handful of independent journalists in a country 
 turned into hell.  A cinema verite narrative of daily life, disintegration, 
 and the humor that ordinary people adapt when living in a warzone.  
 Includes rare footage from inside besieged Fallujah, April 2004, and a 
 Choubi music soundtrak provided by Sublime Frequencies.  Unlike any Iraq 
 movie you have seen!\n 
 https://www.indybay.org/newsitems/2007/04/20/18401949.php
SUMMARY:500 MILES TO BABYLON, a film about Occupied Iraq
LOCATION:Bound Together Books, 1369 Haight Street (at Masonic)
URL:https://www.indybay.org/newsitems/2007/04/20/18401949.php
DTSTART:20070427T030000Z
DTEND:20070427T050000Z
END:VEVENT
END:VCALENDAR
