BEGIN:VCALENDAR
VERSION:2.0
X-WR-CALNAME:www.indybay.org
PRODID:-//indybay/ical// v1.0//EN
BEGIN:VEVENT
UID:Indybay-18399651
SEQUENCE:18413070
CREATED:20070416T233700Z
DESCRIPTION:A concert featuring George Mann, producer of the "Hail to the Thief" 
 anti-Bush CD compilation series and a radiacl activist singer-songwriter 
 from New York City.\n\nAlso featuring Roy Zimmerman, author of great 
 satirical songs about the Bushies, and 91-year-old folk legend Faith 
 Petric!\n\nSuggested donation $5 - $10, all welcome regardless of 
 donation.\n https://www.indybay.org/newsitems/2007/04/16/18399651.php
SUMMARY:George Mann, Roy Zimmerman and Faith Petric in Concert
LOCATION:Berkeley Unitarian Universalist Fellowship\n1924 Cedar St. at corner of 
 Bonita
URL:https://www.indybay.org/newsitems/2007/04/16/18399651.php
DTSTART:20070423T030000Z
DTEND:20070423T050000Z
END:VEVENT
END:VCALENDAR
