BEGIN:VCALENDAR
VERSION:2.0
X-WR-CALNAME:www.indybay.org
PRODID:-//indybay/ical// v1.0//EN
BEGIN:VEVENT
UID:Indybay-18398420
SEQUENCE:18410598
CREATED:20070415T023300Z
DESCRIPTION:We are in for a VERY special - anything but average - treat Monday, April 
 16th, 6-10p.m. - the Average Dyke Band is going to be rocking it for 
 CodePINK at Anna's Jazz Island in Berkeley! \n\nWe are so very fortunate to 
 have the Average Dyke Band playing at this MMMEG and at such a lovely 
 setting as Anna's. This is our chance to dance the night away under the 
 spell of the Average Dyke Band while helping to support the awesome work of 
 CodePINK: Women for Peace. \n\nAnd we will be honoring our own 
 Congresswoman Barbara Lee for her yet another courageous and righteous 
 stand for peace when she voted to deny Bush $124 billion more to escalate 
 once again the war against Iraq. She was joined by only 7 other progressive 
 Democrats in NOT buying Bush's war. \n\nJoin us at 6:00p.m. Monday, April 
 16th at Anna's Jazz Island, 2120 Allston Way, Berkeley (one block east of 
 the downtown BART station). $23 donation, more if you can, less if you 
 can't. For tickets and information, call 510-524-2776 or email info [at] 
 bayareacodepink.org. \n\n\n\nhttp://www.bayareacodepink.org\n\n 
 https://www.indybay.org/newsitems/2007/04/14/18398420.php
SUMMARY:Average Dyke Band rocks the house for CodePINK
LOCATION:Anna's Jazz Island, 2120 Allston Way, Berkeley - one block east of downtown 
 Berkeley BART
URL:https://www.indybay.org/newsitems/2007/04/14/18398420.php
DTSTART:20070424T010000Z
DTEND:20070424T050000Z
END:VEVENT
END:VCALENDAR
