BEGIN:VCALENDAR
VERSION:2.0
X-WR-CALNAME:www.indybay.org
PRODID:-//indybay/ical// v1.0//EN
BEGIN:VEVENT
UID:Indybay-18395278
SEQUENCE:18407391
CREATED:20070411T183800Z
DESCRIPTION:A community event to raise awareness and to grow the peace movemnet in our 
 community.  THere will be speakers, peace organizations handing out their 
 literature, live music and children's activities.  Admission is Free.\n 
 https://www.indybay.org/newsitems/2007/04/11/18395278.php
SUMMARY:Sacramento Peace Festival
LOCATION:William Land Park, corner of Sutterville Rd and Freeport Blvd
URL:https://www.indybay.org/newsitems/2007/04/11/18395278.php
DTSTART:20070520T190000Z
DTEND:20070521T010000Z
END:VEVENT
END:VCALENDAR
