BEGIN:VCALENDAR
VERSION:2.0
X-WR-CALNAME:www.indybay.org
PRODID:-//indybay/ical// v1.0//EN
BEGIN:VEVENT
UID:Indybay-18392904
SEQUENCE:18404977
CREATED:20070410T003000Z
DESCRIPTION:“So I’ll just give you a moment to reflect: From 1976 to 1992, just 
 remove that entire chunk from your life, and that’s what happened.” – 
 Sunny Jacobs\n\nThose sixteen years were taken away from Sunny Jacobs, who 
 was a young mother when she was sentenced to death row for a crime she did 
 not commit. Hers is just one of the voices of  The Exonerated, a play based 
 on the true stories of six wrongfully convicted survivors of death row, 
 told in their own words. Intertwining first-person monologues with scenes 
 set in courtrooms and prisons is the poetry of Delbert Tibbs, one of the 
 exonerated. These stories paint a picture of an American criminal justice 
 system gone horribly wrong—and of six brave souls who persevered to 
 survive it.\n\nPresented by Pisces Moon Productions, renown for nine years 
 for cutting-edge plays concerned with issues of social justice. Since its 
 inception in 2002, royalties and collected monies from The Exonerated have 
 been donated to the Exonerated Fund. The fund provides money to those who 
 have been wrongfully accused and are now trying to reclaim their lives. For 
 tickets and more information, please go to our website:\n 
 https://www.indybay.org/newsitems/2007/04/09/18392904.php
SUMMARY:THE EXONERATED
LOCATION:Broadway Playhouse at the Santa Cruz Art League, 526 Broadway, Santa Cruz 
 (across from the Resource Center for Non-Violence)
URL:https://www.indybay.org/newsitems/2007/04/09/18392904.php
DTSTART:20070527T030000Z
DTEND:20070527T043000Z
END:VEVENT
END:VCALENDAR
