BEGIN:VCALENDAR
VERSION:2.0
X-WR-CALNAME:www.indybay.org
PRODID:-//indybay/ical// v1.0//EN
BEGIN:VEVENT
UID:Indybay-18392809
SEQUENCE:18408076
CREATED:20070409T220200Z
DESCRIPTION:UNITE-HERE, the food service workers' union, is sponsoring a community 
 forum to discuss the poor working and living conditions among immigrant 
 cafeteria workers in the high-tech/bio-tech corridor of the South Bay. food 
 service workers in Silicon Valley, working as subcontractors through the 
 private corporation Guckenheimer Enterprises,  in the cafeterias of such 
 large companies as Genentech, Electronic Arts, and Broadcom, are organizing 
 for a living wage, affordable health care, and respect on the job. they are 
 calling on these huge tech companies to pass a "Code of Conduct" which will 
 assure that companies like Guckenheimer will have to provide a livable wage 
 and better conditions in its cafeterias. \ncome join us in listening to 
 workers give their testimonies to prominent officials such as:\nCongressman 
 Tom Lantos\nSenator Leland Yee\nAssemblyman Gene Mullin\nSan Mateo 
 President-NAACP- Henry Rutland\nSupervisor Jerry Hill\nand many 
 others!\n\nPlease help us obtain a better living for these workers and tell 
 companies like Genentech that they have the responsibility and ability to 
 do so!\n\nSi Se Puede!\n 
 https://www.indybay.org/newsitems/2007/04/09/18392809.php
SUMMARY:Forum on Low-Wage Cafeteria Workers!
LOCATION:Our Redeemer's Lutheran Church. 609 Southwood Dr.  South San Francisco (off 
 of El Camino Real)
URL:https://www.indybay.org/newsitems/2007/04/09/18392809.php
DTSTART:20070413T010000Z
DTEND:20070413T023000Z
END:VEVENT
END:VCALENDAR
