BEGIN:VCALENDAR
VERSION:2.0
X-WR-CALNAME:www.indybay.org
PRODID:-//indybay/ical// v1.0//EN
BEGIN:VEVENT
UID:Indybay-18392771
SEQUENCE:18404836
CREATED:20070409T204600Z
DESCRIPTION:Who: Joseph R. Biden, (D-DE); Chairman, Senate Foreign Relations 
 Committee\n\nEvent: For three decades, Senator Joseph Biden has served on 
 the Senate’s Foreign Relations Committee.  When he became Chairman in 
 January, he immediately held high-profile hearings on Iraq, and the 
 Committee passed a resolution to stop President George W. Bush from sending 
 more American troops to Iraq.  As one of the Democratic candidates for 
 president, Biden is outspoken on the Administration’s handling of the 
 war.  Biden thinks the Democratic Party has become too timid and believes 
 there are practical answers to the challenges America faces.  Come hear 
 Senator Biden firsthand on how he plans to restore the middle class and 
 America’s standing in the world.  Co-sponsored by the Bar Association of 
 San Francisco.\n\nWhen: Wednesday, May 2; Registration: 5:30pm; Program: 
 6:00pm\n\nWhere: Crown Plaza Hotel, Main Ballroom, 480 Sutter St., San 
 Francisco\n\nAdmission Costs: Council and BASF members: $10 standard 
 seating, $20 preferred seating; Students: $10; Non-members: $25 standard 
 seating, $35 preferred seating.  Pre-payment is required.\n\nInfo: 
 415-293-4600; info@wacsf.org; http://www.itsyourworld.org/\n\n 
 https://www.indybay.org/newsitems/2007/04/09/18392771.php
SUMMARY:Meet the 2008 Presidential Candidates: Senator Joe Biden
LOCATION:Crown Plaza Hotel\nMain Ballroom\n480 Sutter St.\nSan Francisco, CA 94108
URL:https://www.indybay.org/newsitems/2007/04/09/18392771.php
DTSTART:20070503T003000Z
DTEND:20070503T020000Z
END:VEVENT
END:VCALENDAR
