BEGIN:VCALENDAR
VERSION:2.0
X-WR-CALNAME:www.indybay.org
PRODID:-//indybay/ical// v1.0//EN
BEGIN:VEVENT
UID:Indybay-18391471
SEQUENCE:18403456
CREATED:20070408T045400Z
DESCRIPTION:Book Tour!THE MEANING OF MARXISM with author PAUL D’AMATO\nBay Area 
 Stops:Sunday, April 22 – 5PMBlack Oak Books, 1491 Shattuck Avenue, 
 BerkeleyMonday, April  23 – 12PMCity College of San Francisco (CCSF) 
 Ocean Campus (50 Phelan Avenue), Rosenberg Library, 305Presented by the 
 City College of San Francisco Concert and Lecture Series and Political 
 Science DepartmentMonday, April 23 – 7PMModern Times Bookstore, 888 
 Valencia, San FranciscoLong-considered dead by mainstream critics, the 
 basic ideas of Karl Marx are brought to life in Paul D’Amato’s Meaning 
 of Marxism. Come hear an inspiring speaker explain why, instead of being 
 irrelevant, Marx’s ideas of globalization, oppression, and social change 
 are more important than ever.When it comes to thinking about the continuing 
 relevance of Marxist principles and perspectives for today’s political 
 struggles, Paul D’Amato is one of the best writers around. Every 
 progressive activist has something to learn from this volume.”– Bill 
 Keach, Brown UniversityPAUL D’AMATO is the associate editor of the 
 International Socialist Review. His writing has appeared in CounterPunch, 
 and Selves and Others and he is a frequent speaker at social justice 
 conferences here and around the world.Sponsored by: Haymarket 
 Bookswww.haymarketbooks.org\n\n\n\n\n |||||Inbox   Get the latest 
 updates from MSN			  MSN Home  |  My 
 MSN  |  Hotmail  |  Search  	|  Shopping  	|  Money  |  People 
 & Chat  Feedback  |  Help    © 2007 Microsoft TERMS OF 
 USE  Advertise  TRUSTe Approved Privacy 
 Statement  GetNetWise  Anti-Spam Policy\n\n 
 https://www.indybay.org/newsitems/2007/04/07/18391471.php
SUMMARY:"The Meaning of Marxism" Book Tour
LOCATION:Black Oak Books, 1491 Shattuck Avenue, Berkeley \n
URL:https://www.indybay.org/newsitems/2007/04/07/18391471.php
DTSTART:20070423T000000Z
DTEND:20070423T010000Z
END:VEVENT
END:VCALENDAR
