BEGIN:VCALENDAR
VERSION:2.0
X-WR-CALNAME:www.indybay.org
PRODID:-//indybay/ical// v1.0//EN
BEGIN:VEVENT
UID:Indybay-18389867
SEQUENCE:18401708
CREATED:20070406T033000Z
DESCRIPTION:Following up on the CodePink Bridging Peace across the Golden Gate that 
 starts at 11:30 on either end of GG bridge....\n\nJOIN the march to 
 Feinstein's and Camp Pelosi. Raging Grannies will be at those two locations 
 wearing our Easter Bonnets for peace and singing our message to DiFi and 
 Nancy P.\n\nFor detailed location info contact: Toby at ratherbenyckeling 
 [at] comcast.net or Zanne at mzsam [at] bayareacodepink.org or call 
 510-524-2776\n https://www.indybay.org/newsitems/2007/04/05/18389867.php
SUMMARY:Raging Granny Easter Bonnet Parade
LOCATION:Diane Feinstein's House and Camp Pelosi\n(Camp Pelosi is at 2640 Broadway 
 SF between Divisidero and Scott)
URL:https://www.indybay.org/newsitems/2007/04/05/18389867.php
DTSTART:20070408T223000Z
DTEND:20070409T000000Z
END:VEVENT
END:VCALENDAR
