BEGIN:VCALENDAR
VERSION:2.0
X-WR-CALNAME:www.indybay.org
PRODID:-//indybay/ical// v1.0//EN
BEGIN:VEVENT
UID:Indybay-18388294
SEQUENCE:18400020
CREATED:20070403T171400Z
DESCRIPTION:Join former congressional candidate Krissy Keefer and other members of the 
 Pelosi Lobby Project for a brown-bag picnic lunch in front of the Federal 
 Building on Monday, April 9.  Bring your own lunch -- and bring your PEACE 
 sign, and send a message to Nancy Pelosi that we want all American troops 
 withdrawn from Iraq and the Middle East.  Tell her we want her to get on 
 board with Senator Russ Feingold's proposal to cut of all war funding -- as 
 Senate Majority Leader Harry Reid is considering doing.\n 
 https://www.indybay.org/newsitems/2007/04/03/18388294.php
SUMMARY:Picnic for Peace Chez Pelosi
LOCATION:Phillip Burton Federal Building, 450 Golden Gate, San Francisco
URL:https://www.indybay.org/newsitems/2007/04/03/18388294.php
DTSTART:20070409T070000Z
DTEND:20070409T083000Z
END:VEVENT
END:VCALENDAR
