BEGIN:VCALENDAR
VERSION:2.0
X-WR-CALNAME:www.indybay.org
PRODID:-//indybay/ical// v1.0//EN
BEGIN:VEVENT
UID:Indybay-18388155
SEQUENCE:18399842
CREATED:20070403T034700Z
DESCRIPTION:Marx's theory of alienation was deeply indebted to Hegel's thought, as was 
 his concept of the transcendence of alienation. This meeting will explore 
 how Marx's transformation of Hegel's revolution in philosophy into a 
 philosophy of revolution speaks to the quest for a humanist alternative to 
 capitalism today.\n\nFree and Open\n\nSponsored by News & Letters 
 Committees\n https://www.indybay.org/newsitems/2007/04/02/18388155.php
SUMMARY:Marx's Concept of the Transcendence of Alienation
LOCATION:Niebyl-Proctor Marxist Library\n6501 Telegraph Ave., Oakland, Ca.
URL:https://www.indybay.org/newsitems/2007/04/02/18388155.php
DTSTART:20070430T013000Z
DTEND:20070430T040000Z
END:VEVENT
END:VCALENDAR
