BEGIN:VCALENDAR
VERSION:2.0
X-WR-CALNAME:www.indybay.org
PRODID:-//indybay/ical// v1.0//EN
BEGIN:VEVENT
UID:Indybay-18388025
SEQUENCE:18399702
CREATED:20070402T192600Z
DESCRIPTION:Advocates and activists involved in working with Hurricane Katrina victims 
 will be gathering at San Jose State University to discuss the human rights 
 issues that have been brought forth as a result of Katrina. Keynote speaker 
 will be Mike Honda. The event will conclude with a solidarity dinner 
 between South Bay students and Katrina victims and advocates.\n 
 https://www.indybay.org/newsitems/2007/04/02/18388025.php
SUMMARY:Conversations on Human Rights and Solidarity Dinner
LOCATION:San Jose State University-Martin Luther King Library\n2nd Floor\n150 E. San 
 Fernando St.\nSan José, CA 95112
URL:https://www.indybay.org/newsitems/2007/04/02/18388025.php
DTSTART:20070411T190000Z
DTEND:20070412T040000Z
END:VEVENT
END:VCALENDAR
