BEGIN:VCALENDAR
VERSION:2.0
X-WR-CALNAME:www.indybay.org
PRODID:-//indybay/ical// v1.0//EN
BEGIN:VEVENT
UID:Indybay-18387515
SEQUENCE:18399122
CREATED:20070401T191000Z
DESCRIPTION:Women's Choice Clinic Benefit Collective presents a charitable evening of 
 "queerotic" floor shows, kissing booths (performer staffed!) , a live 
 fetish show, radical reproductive self-health tutorials, raffles, and other 
 burlesque persuasions. On April 26, 2007 at the El Rio in San Francisco 
 (21+), two shows: first at 9:30 pm and again at 11:45, doors open at 9pm, 
 with a dance party intermission. Admission on a sliding scale basis, $7-$50 
 (no one turned away for lack of funds).\n \nThe Women's Choice Clinic's 
 (WCC) herstory and purpose is worthy of immeasurable support. Women's 
 Choice Clinic, is Northern California's oldest feminist health clinic, 
 empowering all clients through health education, self-help and prevention. 
 The WCC enables people to take control of reproductive processes and 
 shifting power from the hands of medical professionals back to the 
 individual. Women's Choice Clinic provides a multitude of reproductive 
 services: medical and surgical abortions, birth control, pap smears, 
 physical exams, and testing, treatment and counseling for sexually 
 transmitted infections. Join the WCC on April 26 th in support of 
 procreative autonomy, sexual health, and enjoy a subversively-stimulating 
 night. \n https://www.indybay.org/newsitems/2007/04/01/18387515.php
SUMMARY:Queerotic meets Burlesque: A benefit stage show to provide continued access to reproductiv
LOCATION:El Rio 3158 Mission St (@ Cesar Chavez), San Francisco, CA 94110. (415) 
 282-3325\n
URL:https://www.indybay.org/newsitems/2007/04/01/18387515.php
DTSTART:20070427T043000Z
DTEND:20070427T093000Z
END:VEVENT
END:VCALENDAR
