BEGIN:VCALENDAR
VERSION:2.0
X-WR-CALNAME:www.indybay.org
PRODID:-//indybay/ical// v1.0//EN
BEGIN:VEVENT
UID:Indybay-18385437
SEQUENCE:18396975
CREATED:20070329T194300Z
DESCRIPTION:\n\nThe 9th ANNUAL MILLION MARIJUANA MARCH themed CANNABIS\nLIBERATION DAY 
 TO HEAL THE NATION AND ALL OUR\nRELATIONS\n\nLeimert Park - March & Rally  
 -\n\n  Saturday May 5, 2007  March/Rally\n\n   Sunday May 6, 2007 Festival 
 in the Park\n\n                      JOKE'N & TOKE'N COMEDY SHOW!!\n\nSo 
 LINE UP AND SIGN UP .. call Kyle 818 894 6227\n\nor call me, Sister Somayah 
 @ 323 232 0935\n\nGOT A BIZ TO PROMOTE/?  GET A BOOTH!! GOT SOMETHING 
 TO\nSAY? .. COME AND SPEAK.. TESTIFY TO FREE THE HOLY\nHERB!\n\nSEE 
 YA'LL\n\nyo Sister Queen Negus Somayah Kambui\n\n \n \n\n 
 https://www.indybay.org/newsitems/2007/03/29/18385437.php
SUMMARY:Cannabis Liberation Day Los Angeles
LOCATION:Leimert Park - March & Rally  -
URL:https://www.indybay.org/newsitems/2007/03/29/18385437.php
DTSTART:20070505T190000Z
DTEND:20070506T010000Z
END:VEVENT
END:VCALENDAR
