BEGIN:VCALENDAR
VERSION:2.0
X-WR-CALNAME:www.indybay.org
PRODID:-//indybay/ical// v1.0//EN
BEGIN:VEVENT
UID:Indybay-18383895
SEQUENCE:18395258
CREATED:20070327T134800Z
DESCRIPTION:There will be a meeting of all interested persons to decide on actions in 
 support of immigrant and worker rights on April 29 and May 1. The meeting 
 is sponsored by the Coalición por los Derechos de Inmigrantes del Valle 
 Central (Central Valley Coalition for Immigrant Rights). The CDICC was 
 created last year and was responsible for organizing the events in April 
 and May of 2006, including the May 1st gathering at Fresno City 
 Hall.\n\nThe meeting will be held at the Prison Moratorium Project office 
 at 1055 N. Van Ness Ave, Suite C, in Fresno on Thursday, March 29th at 6:00 
 p.m.\n\nTeleconferencing is available for those who can not attend. Call 
 559-266-5901 for more information.\n\n 
 https://www.indybay.org/newsitems/2007/03/27/18383895.php
SUMMARY:Planning Meeting - May Day Actions
LOCATION:This meeting will be held at the Prison Moratorium Project office at 1055 
 N. Van Ness Ave, Suite C, in Fresno on Thursday, March 29th at 6:00 p.m.
URL:https://www.indybay.org/newsitems/2007/03/27/18383895.php
DTSTART:20070330T010000Z
DTEND:20070330T030000Z
END:VEVENT
END:VCALENDAR
