BEGIN:VCALENDAR
VERSION:2.0
X-WR-CALNAME:www.indybay.org
PRODID:-//indybay/ical// v1.0//EN
BEGIN:VEVENT
UID:Indybay-18382733
SEQUENCE:18394008
CREATED:20070325T130300Z
DESCRIPTION:I am Ron S.L.Matthews, I play Keyboards, Flute, Roger Zap Vocoder and do 
 Lead Vocals. I will be Performing this Saturday nite March 24th 2007 at 
 Planet Gemini in Monterey, Ca. at 625 Cannery Row from 9:00pm-10:00pm and 
 again from 11:00pm-12:00pm. I play Funky and at the same TIME Classy 
 Originals, Smooth Jazz, R&B Neo Soul, Hip Hop Grooves, Lite Rock & Top 40 
 Dance. I will be playing this Sunday night March 25th 2007 at the Silkroad 
 Restaurant and Lounge from 6:30pm-9:30pm at 101 Broadway & Embarcadero 
 downtown Oakland, Ca. \nI would like to be a part of your live 
 entertainment as well!! \nIf you are in the area come party with me. \nAny 
 response will be Appreciated. \nThank you for your TIME!! Feel free to give 
 me a call. \n\nRon Serious Licks Matthews \n"The One & Only" \nMusician 
 Extraordinaire \nwww.Sonicbids.com/Ronmatthews 
 \nSeriouslicks@Blackplanet.com \n(510) 467-5781 632-9412 \n\n 
 https://www.indybay.org/newsitems/2007/03/25/18382733.php
SUMMARY:Ron S.L. Matthews
LOCATION:625 Cannery Row Monterey, Ca.\n101 Broadway & Embarcadero Oakland, Ca.
URL:https://www.indybay.org/newsitems/2007/03/25/18382733.php
DTSTART:20070426T013000Z
DTEND:20070426T043000Z
END:VEVENT
END:VCALENDAR
