BEGIN:VCALENDAR
VERSION:2.0
X-WR-CALNAME:www.indybay.org
PRODID:-//indybay/ical// v1.0//EN
BEGIN:VEVENT
UID:Indybay-18380893
SEQUENCE:18392073
CREATED:20070322T032600Z
DESCRIPTION:See above\n https://www.indybay.org/newsitems/2007/03/21/18380893.php
SUMMARY:"Insight" on KXJZ Capital Public Radio FM 90.9
LOCATION:It is a radio discussion of the silencing of dissent and discussion by 
 pro-Israeli organizations such as Committee for Accuracy  in Middle East 
 Reporting in America (CAMERA) with Hastings College of the Law Prof George 
 Bisharat, Middle East scholar  and activist, with Gilead Ini, senior 
 research analyist for CAMERA. 
URL:https://www.indybay.org/newsitems/2007/03/21/18380893.php
DTSTART:20070329T210000Z
DTEND:20070329T220000Z
END:VEVENT
END:VCALENDAR
