BEGIN:VCALENDAR
VERSION:2.0
X-WR-CALNAME:www.indybay.org
PRODID:-//indybay/ical// v1.0//EN
BEGIN:VEVENT
UID:Indybay-18377471
SEQUENCE:18388364
CREATED:20070316T183700Z
DESCRIPTION:Come support our Student Film Festival fundraising project for humanitarian 
 aid to Africa, Asia, and the Middle East by attending. Each day we will be 
 showing different films relating to past and present relations between the 
 West and the Islamic world as well as films that reexamine the relevancy of 
 history and colonialism in today's world. All proceeds and\ndonations will 
 go to Helping Hands USA. Dates and prices are as follows:\n\nDates and 
 Times\nMarch 19 (5:00pm)\nMarch 20 (5:00pm)\nMarch 22 (5:00pm)\nMarch 26 
 (5:00pm)\nMarch 27 (4:00pm)\nMarch 28 (6:00pm)\n\nTicket Prices\n$3 for 
 Students and Youth (13-18)\n$5 for Adults\nChildren 12 and under are 
 FREE\n\n*Tickets will be sold at the door\n\n 
 https://www.indybay.org/newsitems/2007/03/16/18377471.php
SUMMARY:Al Andalus film Festival
LOCATION:University of Pacific@Pacific Avenue\n3601 Pacific Avenue\nStockton, CA 
 95211
URL:https://www.indybay.org/newsitems/2007/03/16/18377471.php
DTSTART:20070329T010000Z
DTEND:20070329T030000Z
END:VEVENT
END:VCALENDAR
