BEGIN:VCALENDAR
VERSION:2.0
X-WR-CALNAME:www.indybay.org
PRODID:-//indybay/ical// v1.0//EN
BEGIN:VEVENT
UID:Indybay-18377263
SEQUENCE:18409759
CREATED:20070316T023700Z
DESCRIPTION:A self-defense class for transgender and genderqueer people is being held 
 the second weekend of April at Dojo Suigetsukan in Oakland.  This class is 
 meant to empower transgender and genderqueer people with the skills 
 necessary to protect themselves against potential harassers and attackers.  
 People who do not fit into the classic gender-binary are often the targets 
 of harassment and hate crimes.  Hopefully, this class will enable people to 
 feel comfortable being who they are, without having to worry for their 
 safety.  Come with an expectation of sensitivity to personal pronouns and a 
 safe space to discuss and role-play situations where we might need to 
 defend ourselves.  All transgender and genderqueer identified people and 
 allies are welcome to benefit from this class.  (See below for details. 
 Please repost.)\n\nTransgender and GenderQueer Self-Defense 
 Class!!!\n\nWhen:\nSaturday April 14th, 2007 1:30-5:30pm\nSunday April 
 15th, 2007 1-3:30pm (follow-up session)\n\nLocation:\nDojo Suigetsukan\n103 
 International Blvd.\nOakland, CA 94606\n\nDirections from Lake Merritt 
 BART:\nWalk NE past Laney College to the lake, then East to the corner of 
 International and 1st Ave.\n\n$10-$20 suggested donation. No one turned 
 away for lack of funds.\n\nLeave a message for Dana to RSVP:  (510) 
 836-3759\nFeel free to call or email (dana_aleshire@yahoo.com) with 
 questions.\n https://www.indybay.org/newsitems/2007/03/15/18377263.php
SUMMARY:Oakland: Transgender & Genderqueer Self-Defense Class
LOCATION:Dojo Suigetsukan\n103 International Blvd.\nOakland, CA 94606
URL:https://www.indybay.org/newsitems/2007/03/15/18377263.php
DTSTART:20070414T203000Z
DTEND:20070415T003000Z
END:VEVENT
END:VCALENDAR
