BEGIN:VCALENDAR
VERSION:2.0
X-WR-CALNAME:www.indybay.org
PRODID:-//indybay/ical// v1.0//EN
BEGIN:VEVENT
UID:Indybay-18377262
SEQUENCE:18388110
CREATED:20070316T022600Z
DESCRIPTION:Do you want to change the world as you shop? Would you like to make sure 
 that every you purchase you make supports companies that care for more than 
 just the bottom line? Would you like to learn which companies are concerned 
 about environmental sustainablity, human rights, animal protection, 
 community involvement or social justice?\n\nJoin Dr. Ellis Jones, UC Davis 
 sociolgist, originator of the bestelling Better World Handbook 
 (www.newsociety.com), and now author of the Better World Shopping Guide 
 (www.betterworldshopper.org), a comprehensive pocket-sized guide for 
 socially and environmentally responsible consumers, as he shares insights 
 as to how you can turn your grocery list into a powerful tool to change the 
 world. Jones will offer highlights from over 20 years of research 
 (distilled into simple A to F report cards) of some the worst and best 
 companies on the planet, will offer practical tips to help you tell the 
 "good guys" from the "bad guys", and will help you turn every dollar spent 
 into a powerful vote for a better world.\n 
 https://www.indybay.org/newsitems/2007/03/15/18377262.php
SUMMARY:Better World Shopper Author Ellis Jones Appears In Bay Area
LOCATION:Cody's Books\n2 Stockton Street\nSan Francisco, CA 
 94108\n415-773-0444\nhttp://www.codysbooks.com
URL:https://www.indybay.org/newsitems/2007/03/15/18377262.php
DTSTART:20070328T020000Z
DTEND:20070328T040000Z
END:VEVENT
END:VCALENDAR
