BEGIN:VCALENDAR
VERSION:2.0
X-WR-CALNAME:www.indybay.org
PRODID:-//indybay/ical// v1.0//EN
BEGIN:VEVENT
UID:Indybay-18373956
SEQUENCE:18384658
CREATED:20070307T220600Z
DESCRIPTION:A Place to Stand\nCreated from work by legendary writers\nJimmy Santiago 
 Baca & Ntozake Shange\nA new performance piece bringing together the work 
 of two legendary writers in one project confronting imprisonment\nDirected 
 by Sean San Jose\nMarch 1 - March 26 @ 8pm\nThursdays - Sundays, Thursdays 
 pay what you can\n$9-$20/sliding scale, general 
 admission\nwww.theintersection.org\nThis original poetic journey explores 
 concepts of societal, cultural and psychological imprisonment. Featuring 
 music inspired by the rare indigenous rhythms inherent in these writer's 
 voices created by jazz composer Howard Wiley and Hip Hop Musician Tommy 
 Shepherd and design by visual artist Victor Cartagena, Ray Oppenheimer and 
 Robert Hampton. Performed by Carlos Aguirre, Catherine Castellanos, Marc 
 Pinate, Savannah Shange, Scheherazade Stone, Florentino Gonzales & Sara 
 Hernandez. \n https://www.indybay.org/newsitems/2007/03/07/18373956.php
SUMMARY:A Place to Stand Created from the Writings of Jimmy Santiago Baca & Ntozake Shange
LOCATION:Intersection for the Arts\n446 Valencia Street (btwn 15/16th Streets)\nSan 
 Francisco, CA 94103
URL:https://www.indybay.org/newsitems/2007/03/07/18373956.php
DTSTART:20070310T040000Z
DTEND:20070310T050000Z
END:VEVENT
END:VCALENDAR
