BEGIN:VCALENDAR
VERSION:2.0
X-WR-CALNAME:www.indybay.org
PRODID:-//indybay/ical// v1.0//EN
BEGIN:VEVENT
UID:Indybay-18373952
SEQUENCE:18384650
CREATED:20070307T214800Z
DESCRIPTION:Meeting to plan the March 29th 12pm action for Housing and Healthcare for 
 ALL!\n\nBecause AIDS is not over\n 
 https://www.indybay.org/newsitems/2007/03/07/18373952.php
SUMMARY:ACT UP BAY AREA
LOCATION:3$ cafe
URL:https://www.indybay.org/newsitems/2007/03/07/18373952.php
DTSTART:20070309T020000Z
DTEND:20070309T020000Z
END:VEVENT
END:VCALENDAR
