BEGIN:VCALENDAR
VERSION:2.0
X-WR-CALNAME:www.indybay.org
PRODID:-//indybay/ical// v1.0//EN
BEGIN:VEVENT
UID:Indybay-18371119
SEQUENCE:18381872
CREATED:20070302T004100Z
DESCRIPTION:Please join the East Bay Permaculture Guild in welcoming the beginning of 
 Spring on a visit to gardens and sites involved in the Food and 
 Environmental Justice movement in West Oakland, featuring examples of urban 
 farming, remediation of toxic soil, green and natural building, graywater 
 systems, neighbor cooperation, and community activism.\n\n\n\n\n 
 https://www.indybay.org/newsitems/2007/03/01/18371119.php
SUMMARY:Bike Tour through West Oakland's Food & Environmental Justice movement
LOCATION:Meet at West Oakland BART Station at 1pm
URL:https://www.indybay.org/newsitems/2007/03/01/18371119.php
DTSTART:20070325T200000Z
DTEND:20070326T000000Z
END:VEVENT
END:VCALENDAR
