BEGIN:VCALENDAR
VERSION:2.0
X-WR-CALNAME:www.indybay.org
PRODID:-//indybay/ical// v1.0//EN
BEGIN:VEVENT
UID:Indybay-18370608
SEQUENCE:18381333
CREATED:20070301T101200Z
DESCRIPTION:	\n\nSan Francisco \nState University\n \nDepartment of 
 Anthropology		\n\n\n\n1600 Holloway Avenue\nSan Francisco, CA 
 94132-4155\n\nTel:  415/338-2046\nFax: 415/338-0530\nEmail: 
 anthro@sfsu.edu\n\n\nFOURTH ANNUAL HUMAN RIGHTS SUMMIT\n“Power and 
 Pleasure: Expressions and Repressions of Sexuality and Reproductive 
 Rights”\nSan Francisco State University\nApril 30 – May 2, 
 2007\n\n\nDear Indy bay and Readers,\n\nOn behalf of the Organizing 
 Committee for the Fourth SFSU Annual Human Rights Summit, we would like to 
 ask for your help in spreading the word about this prestigious conference. 
 Anthropology and Human Rights students at SFSU, who are co-organizing this 
 important event, have identified yours as an important forum within the 
 community. We hope we can count on you to post or announce the details of 
 the Summit so we can reach as many people as possible, and generate 
 necessary attention and attendance! \n\nThis year’s theme is Sexuality, 
 Gender, and Reproductive Rights, and we will be exploring the various and 
 interconnected ways these themes are present in our world, on both 
 individual and communal levels. There will be student panels, guest 
 speakers, performances, and film showings in both the Jack Adams Hall and 
 the Rosa Parks conference rooms in the Cesar Chavez Student Center, as well 
 as diverse workshops and information booths set up on the lawn outside. 
 There will also be an exhibit in the Hohenthal Gallery of the Science 
 Building on campus where we will house a multi-media display entitled 
 “Masturbation Through Time and Space.”\n\nAs we are still in the 
 process of scheduling and bringing resources together, we do not have a 
 final calendar for the Summit. If you can print or otherwise publicize 
 these preliminary details, we would be enormously grateful.  We will pass 
 on more information to you as we finalize the program in the upcoming 
 weeks. These issues are of paramount importance in our world today, and we 
 are hoping you can do your part in circulating the news of this significant 
 convention.\n\n\nIn Peace and Solidarity,\n\nMariana Leal Ferreira, 
 PhD\nDept. of Anthropology - SFSU\nGlobal Peace, Human Rights & Justice 
 Studies,\nProgram Director\n1600 Holloway Ave.\nSan Francisco, CA 
 94132\n\n\n https://www.indybay.org/newsitems/2007/03/01/18370608.php
SUMMARY:Power and Pleasure: The Expressions and Repressions of Sexuality and Reproductive Rights
LOCATION:TBA. Possible showing of topically related films in the Rosa Parks 
 conference rooms A & B of the Cesar Chavez Student Center, SFSU Campus.  
 Related exhibit showings in the Hohenthal Gallery, Room 388 of the SFSU 
 Science Building. \n*Booths and workshops will be set-up/held outside on 
 the SFSU "lawn" in front of the Cesar Chavez Student Center, all day from 
 Mon. April 30-Wed. May 2.
URL:https://www.indybay.org/newsitems/2007/03/01/18370608.php
DTSTART:20070501T073000Z
DTEND:20070501T113000Z
END:VEVENT
END:VCALENDAR
