BEGIN:VCALENDAR
VERSION:2.0
X-WR-CALNAME:www.indybay.org
PRODID:-//indybay/ical// v1.0//EN
BEGIN:VEVENT
UID:Indybay-18368755
SEQUENCE:18379374
CREATED:20070226T062600Z
DESCRIPTION:FOR IMMEDIATE RELEASE:\n\nMoney Trumps Peace: Follow the Money with Eustace 
 Mullins\n\nRedwood City, California, Feb. 26, 2007 - Eustace Mullins 
 will\nspeak and discuss how and why our monetary system creates wars.\nHis 
 talk begins at 7 PM on Friday, March 9, 2007 at the Unitarian\nUniversalist 
 Fellowship of Redwood City. All are welcome to attend\nthis talk to become 
 more aware of the truths that can end wars.\nThis talk is sponsored by the 
 Peninsula Ministry of Truth. A $15\nto $20 donation is suggested.\n\nMr. 
 Mullins will also be speaking at 7 PM on Wednesday, March 7,\nat the Marin 
 Center in San Rafael. $20 tickets are available at\nthe Marin Center Box 
 Office or charge-by-phone at: 415-499-6800.\nAnd Mr. Mullins is tentatively 
 scheduled to speak on Tuesday,\nMarch 13, at the Grand Lake Theatre in 
 Oakland. Details about\nthese events will be coming soon.\n\nAbout Eustace 
 Mullins and the Federal Reserve System:\n\nEustace Mullins is a researcher 
 who has written books that\ndescribe how major monopolies have developed to 
 affect Americans.\nIn the "Secrets of the Federal Reserve," the author 
 shows how a\ngroup of international bankers drafted the Federal Reserve Act 
 to\ngain control of the money and credit of the American people, 
 then\nbought up shares in the Federal Reserve Banks, and had 
 themselves\nappointed to its Board of Governors.\n\nThe Fed then launched 
 the first World War, financed the Russian\nRevolution, Soviet Union and 
 Hitler's rise to power, and\nessentially caused the Great Depression. More 
 recently, a\n"conversion of the assets of the United States and its 
 citizens\nfrom real property to paper assets from 1945 to the present" 
 has\ntransformed the foremost world power into the world's largest\ndebtor 
 nation.\n\nAbout Peninsula Ministry of Truth:\n\nThe Peninsula Ministry of 
 Truth rectifies disinformation by\nstudying, discussing and sharing the 
 hidden truths that contrast\nmarkedly with the stories and political 
 messages that pervade our\npopular culture. Our goal is to inspire you to 
 reveal what you\nknow, share more of what you learn with others, and 
 support\nyou to act in ways that reduce your support for the damaging 
 lies\nthat abound. We strive to help each other learn to interpret 
 our\npopular myths such as the ones connected to the crimes that\noccurred 
 around the time of eleven September 2001.\n\n# # #\n\nIf you would like to 
 schedule an interview or event with\nEustace Mullins during his time in 
 Northern California, March 6\nto March 14, please contact Edward 
 Spencer.\n\nTo be informed of future Peninsula Ministry of Truth 
 events,\nsubscribe by sending email to mot-subscribe@lists.riseup.net 
 or\nvisit http://smoking-gun.us.to\n\nHelp co-sponsor by posting this 
 message to your website and\nmailing list. Subscribers to the Peninsula 
 Ministry of Truth\nevents mailing list can download a flyer of the event to 
 print\nand distribute at: http://lists.riseup.net/www/d_read/mot/\nor 
 contact us to receive a copy.\n 
 https://www.indybay.org/newsitems/2007/02/25/18368755.php
SUMMARY:Money Trumps Peace with Eustace Mullins
LOCATION:Unitarian Universalist Fellowship of Redwood City\n2124 Brewster Ave. (at 
 Lowell St.)\nRedwood City, CA 94062\n\nMap and driving directions: 
 http://www.uufrc.org/howfind.html\nPublic transit: 1-(800) 660 - 4BUS 
 http://transit.511.org
URL:https://www.indybay.org/newsitems/2007/02/25/18368755.php
DTSTART:20070310T030000Z
DTEND:20070310T053000Z
END:VEVENT
END:VCALENDAR
