BEGIN:VCALENDAR
VERSION:2.0
X-WR-CALNAME:www.indybay.org
PRODID:-//indybay/ical// v1.0//EN
BEGIN:VEVENT
UID:Indybay-18361725
SEQUENCE:18372293
CREATED:20070212T223400Z
DESCRIPTION:San Francisco Walk Against Rape: a tribute to sexual assault awareness 
 month \n\nWalk Against Rape is an opportunity for the communities of San 
 Francisco to come together and raise awareness around sexual assault. As 
 part of Sexual Assault Awareness Month, Walk Against Rape will be held on 
 April 28th 2007. Walk Against Rape is a 3.1 mile walk starting at Justin 
 Herman Plaza at 10am and culminating in a rally at noon in Dolores Mission 
 Park. Walkers will arrive in the park to find speakers, performances, the 
 Clothesline Project on display, prizes for the highest fundraisers, several 
 community organizations who will be offering information and resources, and 
 food and drink. Walkers interested in participating can fill out a 
 registration form and collect donations from their friends and family. All 
 proceeds will benefit San Francisco Women Against Rape. \n\nSFWAR provides 
 resources, support, advocacy and education to strengthen the work of all 
 individuals, and communities in San Francisco that are responding to, 
 healing from, and struggling to end sexual violence. At SFWAR, we believe 
 that no single individual, organization, foundation, or business alone can 
 stop the epidemic of sexual assault, but by responding as a whole 
 community, we each bring our piece of the solution. \n\nFor more 
 information email janetupadhye@sfwar.org or call 415-861-2024\n 
 https://www.indybay.org/newsitems/2007/02/12/18361725.php
SUMMARY:San Francisco Walk Against Rape
LOCATION:Start: Justin Herman Plaza. Finish: Mission Dolores Park
URL:https://www.indybay.org/newsitems/2007/02/12/18361725.php
DTSTART:20070428T170000Z
DTEND:20070428T210000Z
END:VEVENT
END:VCALENDAR
