BEGIN:VCALENDAR
VERSION:2.0
X-WR-CALNAME:www.indybay.org
PRODID:-//indybay/ical// v1.0//EN
BEGIN:VEVENT
UID:Indybay-18355540
SEQUENCE:18366024
CREATED:20070201T235700Z
DESCRIPTION:San Francisco PSL Forum & Discussion\nFriday, February 2, 7pm\n\nIran & the 
 Struggle Against Imperialism:\nThe United States has Iran in its cross 
 hairs, making constant threats against the country. Iran has struggled 
 against ongoing imperialist threats for years as it attempts to develop 
 nuclear power. Join us for a report and discussion of the latest 
 developments in the conflict.\n\nPlus! a report on Police Repression in 
 Brazil:\nBrazil is a country of contradictions, with great disparity 
 between the wealthy elite and the working class. The government is 
 implementing massive repression in the capitol in advance of the upcoming 
 Panama Games. What is the growing people's movement doing? What role does 
 Brazil play in the region? Join us for a report and discussion about the 
 class struggle in Brazil.\n 
 https://www.indybay.org/newsitems/2007/02/01/18355540.php
SUMMARY:FORUM: WILL THE US ATTACK IRAN?
LOCATION:2489 Mission Street, Rm. 28 (near 21st), San Francisco
URL:https://www.indybay.org/newsitems/2007/02/01/18355540.php
DTSTART:20070203T030000Z
DTEND:20070203T050000Z
END:VEVENT
END:VCALENDAR
