BEGIN:VCALENDAR
VERSION:2.0
X-WR-CALNAME:www.indybay.org
PRODID:-//indybay/ical// v1.0//EN
BEGIN:VEVENT
UID:Indybay-18355278
SEQUENCE:18365744
CREATED:20070131T232900Z
DESCRIPTION:\nCELEBRATION AND SOLIDARITY FOR OAXACA AND ATENCO'S POLITICAL 
 PRISONERS\n\nFriday, February 2nd, 6pm \nStation 40: 3030B. 16th St, near 
 Mission BART SF\n\nDonation: $5.00, (no one turned away for lack of funds). 
 \nCollection to be sent to both Oaxaca and Atenco to help release political 
 \nprisoners who are being tortured and killed.\n\nMusic and spoken word, 
 featuring MamaCoatl and los Rumberos del Barrio\n\nReport back from the 
 recent international Zapatista gathering in Chiapas, \nfrom Alejandro 
 Reyes, member of the Zapatista Ramona Collective and Radio 
 \nZapatista.\n\nIndependent journalist and photographer Barucha Calamity 
 Peller will \nreport back on the situation of political prisoners in 
 Oaxaca.\n\nLuis Herrera, immigrant rights activist, will speak about the 
 political \nprisoners from Atenco.\n\nShort films on both Atenco and 
 Oaxaca,\n\nVegetarian dinner, drinks and more�\n\nCOME AND SHOW YOUR 
 SUPPORT!!! \nFREEDOM TO ALL POLITICAL PRISONERS!!! \nZAPATA VIVE....LA 
 LUCHA SIGUE...SIGUE....SIGUE!!! 
 \n______________________________________________________________\n\nCELEBRACION 
 Y SOLIDARIDAD PARA L@S PRISIONER@S POLITICOS DE ATENCO Y OAXACA\n\nViernes 
 2 de febrero a las 6pm \nStation 40: en 3030B de la calle 16, cercas del 
 BART en San Francisco\n\nDonacion: $5.00 (nadien sera negado la entrada por 
 falta de fondos) \nLa Colecci�n sera mandada a Oaxaca y Atenco para 
 apoyar en la liberaci�n de \nlos pres@s politicos que estan siendo 
 torturad@s y asesinad@s.\n\nMusica y Poesia, con MamaCoatl y los Rumberos 
 del Barrio.\n\nReporte de la consulta zapatista en Chiapas con los pueblos 
 \ndel mundo, por Alejandro Reyes, de La Colectiva Zapatista Ramona y Radio 
 \nZapatista.\n\nReportera independiente y fotografa Barucha Calamity Peller 
 reportando de la \nsituacion de los prisioner@s politicos en 
 Oaxaca.\n\nLuis Herrera, activista por los derechos de l@s inmigrantes 
 reportara en \nla situacion de los prisioner@s politicos en 
 Atenco.\n\nPeliculas cortas de Atenco y Oaxaca,\n\nCena vegetariana, 
 bebidas y mas...\n\nVEN Y ENSENA TU APOYO!!! \nLIBERTAD A TOD@S L@S PRES@S 
 POLITICOS!!! \nZAPATA VIVE...LA LUCHA SIGUE... 
 SIGUE...SIGUE!!!\n\n___________________________________\n\n\n\nwww.entartetekunst.info\n\npo 
 box 411194\nSan Francisco \nCa 94141-1194.\nU.S.A.\n\n 
 https://www.indybay.org/newsitems/2007/01/31/18355278.php
SUMMARY:Celebration and Solidarity 4 Oaxaca and Atenco's Political Prisoners
LOCATION:Station 40: 3030B. 16th St, near Mission BART SF
URL:https://www.indybay.org/newsitems/2007/01/31/18355278.php
DTSTART:20070203T020000Z
DTEND:20070203T050000Z
END:VEVENT
END:VCALENDAR
