BEGIN:VCALENDAR
VERSION:2.0
X-WR-CALNAME:www.indybay.org
PRODID:-//indybay/ical// v1.0//EN
BEGIN:VEVENT
UID:Indybay-18351542
SEQUENCE:18361975
CREATED:20070125T081800Z
DESCRIPTION:A panel discussion exploring gay marriage from a radical queer perspective. 
  Panelists include:\n\nB. Ruby Rich - Professor, Community Studies\nMarcia 
 Ochoa - Professor, Community Studies\nEric Stanley - Grad Student, History 
 of Consciousness\nRalowe T. Ampu - Activist, San Francisco Gay Shame\n\nThe 
 panel will be followed by a question and answer session. \n 
 https://www.indybay.org/newsitems/2007/01/25/18351542.php
SUMMARY:The Honeymoon is Over: Queers Disrupt Gay Marriage
LOCATION:Soc Sci 2, room 75, at UCSC
URL:https://www.indybay.org/newsitems/2007/01/25/18351542.php
DTSTART:20070131T040000Z
DTEND:20070131T060000Z
END:VEVENT
END:VCALENDAR
