BEGIN:VCALENDAR
VERSION:2.0
X-WR-CALNAME:www.indybay.org
PRODID:-//indybay/ical// v1.0//EN
BEGIN:VEVENT
UID:Indybay-18345309
SEQUENCE:18354853
CREATED:20070109T215300Z
DESCRIPTION:You are cordially invited to attend the Independent Policy Forum\n\nOn The 
 Wealth of Nations\nAn evening with America’s top humorist, P.J. 
 O'Rourke\n\nWine & Cheese Reception: 6:30 P.M.\nProgram: 7:00 
 P.M.\n\nTICKETS:\nRegular Admission: $15 ($10 for Institute 
 Members)\nSpecial Admission: $30 ($25 for members) - Includes one copy of 
 the new book, "On the Wealth of Nations: Books that Changed the 
 World"\n\nFor tickets and information please call (510) 632-1366,\nor order 
 on line: www.independent.org/events/detail.asp?eventID=124.\nDisabled 
 accommodations available.\n\nTOPIC: \nThe World Bank, defense spending, and 
 PBS’s Bill Moyers all fall victim to the irreverant wit of America's most 
 provocative humorist, P.J. O'Rourke, through the lens crafted by Adam Smith 
 and his groundbreaking work, "The Wealth of Nations." In a hilarious talk 
 based on his own new book, "On the Wealth of Nations: Books That Changed 
 the World," O'Rourke will share his insight on why Smith is still so 
 relevant, and why what now seems obvious was once considered 
 revolutionary.\n https://www.indybay.org/newsitems/2007/01/09/18345309.php
SUMMARY:Independent Policy Forum: On The Wealth of Nations
LOCATION:The Independent Institute Conference Center\n100 Swan Way, Oakland, CA  
 94621
URL:https://www.indybay.org/newsitems/2007/01/09/18345309.php
DTSTART:20070210T023000Z
DTEND:20070210T043000Z
END:VEVENT
END:VCALENDAR
