BEGIN:VCALENDAR
VERSION:2.0
X-WR-CALNAME:www.indybay.org
PRODID:-//indybay/ical// v1.0//EN
BEGIN:VEVENT
UID:Indybay-18344863
SEQUENCE:18384839
CREATED:20070107T222000Z
DESCRIPTION:http://www.indybay.org/newsitems/2007/01/07/18344863.php\n\nDo you want to 
 get involved in SF Bay Area Indymedia?  Want to get involved with Indybay 
 or Faultlines?  Do you want to network with other repoprters and find out 
 about local radio and video projects?\n\nThe SF Bay Area Independent Media 
 Center will hold its next New Volunteer Orientation and Meeting on 
 Saturday, March 10th, at 3pm at 674 23rd St., Oakland, CA [wheelchair 
 accessible].  This is in the same building as AK Press, between MLK and San 
 Pablo. It's near 19th St. BART. There are AC Transit stops within a block 
 of the building. Cars would take 17th or 27th Street exits off 980, 
 depending on direction, or West Grand exit off 880.\n\nLearn more about the 
 Indymedia network and how you can help our local Bay Area IMC continue to 
 be the useful resource that it is.\n\nAt the orientation, we will explain 
 what the SF Bay Area IMC is all about. If you would like to get involved, 
 at any level, come by and find out more! 
 \nhttp://www.indybay.org/newsitems/2007/01/07/18344863.php\n\nThe next 
 meeting of the collective that edits Indybay.org will be on Saturday, March 
 24th, with a new volunteer orientation beginning at 3pm.\n 
 https://www.indybay.org/newsitems/2007/01/07/18344863.php
SUMMARY:Indymedia Orientation In Oakland
LOCATION:674 23rd St., Oakland, CA [wheelchair accessible]\n\n(This is in the same 
 building as AK Press, between MLK and San Pablo. It's near 19th St. BART. 
 There are AC Transit stops within a block of the building. Cars would take 
 17th or 27th Street exits off 980, depending on direction, or West Grand 
 exit off 880.)
URL:https://www.indybay.org/newsitems/2007/01/07/18344863.php
DTSTART:20070310T230000Z
DTEND:20070311T000000Z
END:VEVENT
END:VCALENDAR
