BEGIN:VCALENDAR
VERSION:2.0
X-WR-CALNAME:www.indybay.org
PRODID:-//indybay/ical// v1.0//EN
BEGIN:VEVENT
UID:Indybay-18340230
SEQUENCE:18355234
CREATED:20061224T101400Z
DESCRIPTION:Peninsula Humane Society, 12 Airport Blvd, San Mateo; 6 to 7 pm tour of 
 facility; 7 to 8 pm talk by Ken White.\n\nMore PHS info: 
 http://www.peninsulahumanesociety.org/\n\nYou can also bring clean blankets 
 and towels to donate for the animals' bedding.\n 
 https://www.indybay.org/newsitems/2006/12/24/18340230.php
SUMMARY:January Green Talk
LOCATION:Peninsula Humane Society\n12 Airport Blvd.\nSan Mateo, CA 
 94403\n\nhttp://www.peninsulahumanesociety.org/
URL:https://www.indybay.org/newsitems/2006/12/24/18340230.php
DTSTART:20070111T020000Z
DTEND:20070111T040000Z
END:VEVENT
END:VCALENDAR
