BEGIN:VCALENDAR
VERSION:2.0
X-WR-CALNAME:www.indybay.org
PRODID:-//indybay/ical// v1.0//EN
BEGIN:VEVENT
UID:Indybay-18334868
SEQUENCE:18342939
CREATED:20061204T042500Z
DESCRIPTION:Solidarity with "Green Scare" Defendants!\n\nAdmission will be sliding 
 scale, $5-30, no one turned away for lack of funds.\nAll proceeds will be 
 directly contributed to the legal defense funds and commissaries of the 
 accused activists.\n\nGUEST SPEAKERS\n\nBenjamin Rosenfeld\nA Bay Area 
 attorney specializing in civil liberties, activist defense and grand jury 
 resistance, who has successfully argued on high-profile cases such as FBI 
 vs Judi Bari & Darryl Cherney and Cascadia Forest Alliance vs the State of 
 California.\n\nDavid Hayden\nA local grand jury resister, and volunteer for 
 No Compromise magazine.\n\nFILM SCREENINGS\n\nEco-dissent, Not 
 Terrorism\nThis SourceCode documentary that first appeared on Free Speech 
 TV takes a well-rounded look at civil disobedience under the Patriot 
 Act.\nA Voice for Liberation: Rod Coronado\nA short and moving interview 
 with Rod Coronado; Native American,  tireless defender of the earth, and 
 convicted Animal Liberation Front activist.\nRefusing to Be Silent: Josh 
 Harper\nJosh Harper, one of the SHAC 7 defendants, speaks forthrightly 
 about the SHAC trial, new “anti-terrorism” laws, and his own experience 
 of government persecution.\n\nVEGAN REFRESHMENTS, relevant books/ zines, 
 and t-shirts will be available, also being sold to raise benefit 
 money.\n\n\nOppose the criminalization of dissent!\n\nThe term “Green 
 Scare” refers to the federal government’s expanding prosecution efforts 
 against animal liberation and ecological activists, which is strikingly 
 similar to the "Red Scare" of the 1950s. Recent sweeping legislation such 
 as the Patriot Act and Animal Enterprise Terrorism Act redefine 
 “terrorism” so broadly that anyone who advocates for social change can 
 be criminalized for thinking, speaking or acting in a manner that threatens 
 corporate profits and the rule of law. Activists are facing potential 
 multiple life sentences for crimes against property, crimes that have 
 harmed no-one. Others (the SHAC 7) have been sentenced to years in prison 
 for simply running a website and speaking in support of direct action. Look 
 out, everyone is a potential terrorist.\n\n\nThis event is part of the 
 International Days of Solidarity with Green Scare Indictees, Detainees, and 
 Political Prisoners. \nFor more information:\n\ngreenscare.org - 
 Illuminating the new war on dissent.\necoprisoners.org - North American 
 Earth Liberation Prisoners' Support Network\nfbiwitchhunt.com - Fight Grand 
 Juries and Govt. Harassment\nstopaeta.org - Stop the Animal Enterprise 
 Terrorism Act\ncldc.org - Civil Liberties Defense Center\nshac7.com - the 
 Stop Huntingdon Animal Cruelty Seven legal defense page\nfreefreenow.org - 
 Jeff "Free" Luers support network\nsupportrod.org - Rod Coronado's support 
 website\nportland.indymedia.org/en/topic/greenscare - good for news & 
 updates.\n\n https://www.indybay.org/newsitems/2006/12/03/18334868.php
SUMMARY:Oppose the criminalization of dissent! Speakers & Films, a "Green Scare" related benefit.
LOCATION:At the Resource Center for Nonviolence, 515 Broadway.
URL:https://www.indybay.org/newsitems/2006/12/03/18334868.php
DTSTART:20061209T030000Z
DTEND:20061209T060000Z
END:VEVENT
END:VCALENDAR
