BEGIN:VCALENDAR
VERSION:2.0
X-WR-CALNAME:www.indybay.org
PRODID:-//indybay/ical// v1.0//EN
BEGIN:VEVENT
UID:Indybay-18334843
SEQUENCE:18342913
CREATED:20061204T005300Z
DESCRIPTION:All Diamonds Are Blood Diamonds!  This is a demonstration infront of the 
 Grand Lake Theater showing "Blood Diamond".  What the popular media likes 
 to show about some diamonds being bloody put forth by major diamond 
 corporations isn't accurate.  It's not a thing of the past where people are 
 being murdered daily over the land where diamonds rest.  Every diamond 
 minning area is a war zone where the locals are brutalized, murdered and 
 displaced.  They are being murdered daily so the diamonds can continue to 
 be extracted and extracted more easily.  ALL DIAMONDS ARE BLOOD DIAMONDS!\n 
 https://www.indybay.org/newsitems/2006/12/03/18334843.php
SUMMARY:All Diamonds Are Blood Diamonds!
LOCATION:Grand Lake Theater\n3200 Grand Avenue\nOakland, CA
URL:https://www.indybay.org/newsitems/2006/12/03/18334843.php
DTSTART:20061209T030000Z
DTEND:20061209T050000Z
END:VEVENT
END:VCALENDAR
