BEGIN:VCALENDAR
VERSION:2.0
X-WR-CALNAME:www.indybay.org
PRODID:-//indybay/ical// v1.0//EN
BEGIN:VEVENT
UID:Indybay-18333732
SEQUENCE:18341700
CREATED:20061128T045600Z
DESCRIPTION:Save Oakland's Condo-Conversion Protections! \n\nWhen: Nov. 28-4pm CEDA 
 Meeting \n\nWhere: Oakland City Hall \n(Come early to sign up as a speaker 
 against the condo-conversion scheme.)\n\nOakland Councilmembers Brooks, 
 Chang and De la Fuente have teamed up with realtors/developers to sell off 
 Oakland's rental housing stock, under the guise of promoting home 
 ownership. \n\nTheir scheme to gut Oakland's present condo-conversion 
 protections, will shred 20 years of housing protections for Oakland 
 renters! \n\nThe plan is to end the one for one replacement requirement, 
 that currently requires a new apartment to be built for each rental housing 
 unit thats been converted  into a condominium. \n\nThe developers are 
 pushing for 800 to 1,500 condo-conversions per year, resulting in evictions 
 each time a condo-conversion occurs.\n\nLess than 10% of Oakland renters 
 can afford a pricey $350-$400 thousand condo-conversion! \n\nThe scheme 
 will make thousands homeless, and the rents will skyrocket in Oakland and 
 the surrounding areas as a result of a huge rental housing shortage this 
 will create in the near future! \n\nJoin Oaklanders on Tue Nov. 28, at the 
 4pm CEDA Meeting at Oakland's City Hall, to stop the plan to sell off 
 Oakland's rental housing stock to the highest bidders!  \n\nCome early to 
 sign up as a speaker!\n 
 https://www.indybay.org/newsitems/2006/11/27/18333732.php
SUMMARY:Oakland Condo-Conversion Meeting
LOCATION:Oakland City Hall\n--4pm CEDA Meeting-- \nBroadway & 14th St. \nDown town 
 Oakland.
URL:https://www.indybay.org/newsitems/2006/11/27/18333732.php
DTSTART:20061129T000000Z
DTEND:20061129T013000Z
END:VEVENT
END:VCALENDAR
