BEGIN:VCALENDAR
VERSION:2.0
X-WR-CALNAME:www.indybay.org
PRODID:-//indybay/ical// v1.0//EN
BEGIN:VEVENT
UID:Indybay-18333701
SEQUENCE:18342951
CREATED:20061128T012500Z
DESCRIPTION:AIPAC holds membership dinners in many cities around the nation throughout 
 the year.  It holds its main Policy Conference in Washington DC every year, 
 and that is attended by thousands, including usually most of Congress and a 
 few heads of State (often including the Prime Minister of Israel).  Even 
 their smaller dinners are often attended by hundreds of people, including 
 many local politicians.  Isn't it time they knew attending  a celebration 
 of  militarism may be controversial? \n\nWe can expose AIPAC's agenda and 
 hold it accountable to people's desire for a fair foreign policy.  \n 
 https://www.indybay.org/newsitems/2006/11/27/18333701.php
SUMMARY:Oakland: Stop AIPAC!
LOCATION:1101 Broadway, Oakland- right by 12th street BART
URL:https://www.indybay.org/newsitems/2006/11/27/18333701.php
DTSTART:20061205T020000Z
DTEND:20061205T030000Z
END:VEVENT
END:VCALENDAR
