BEGIN:VCALENDAR
VERSION:2.0
X-WR-CALNAME:www.indybay.org
PRODID:-//indybay/ical// v1.0//EN
BEGIN:VEVENT
UID:Indybay-18333670
SEQUENCE:18341606
CREATED:20061127T204300Z
DESCRIPTION:For the past 2 months Bay Area maritime union members have been picketing 
 daily in a struggle to maintain union wages and working 
 conditions.\n\nTerry Macrae's Alcatraz Cruises (a subsidiary of Hornblower) 
 refuses to hire IBU and MM&P members who have worked on the Alcatraz ferry 
 since 1973.\n\nThe International Longshore and Warehouse Union was born out 
 of the 1934 San Francisco Maritime and General Strike.\n\nSince then the 
 ILWU has maintained good wages and working conditions on the entire Bay 
 Area waterfront.  The current assault by Hornblower is a direct attack at 
 the heart of ILWU jurisdiction and demands a powerful response.\n\nIn a 
 show of solidarity ILWU Local 10 voted for a port-wide shutdown in support 
 of the IBU and MM&P workers.\n\nThis is a call for all union members and 
 their allies to join us on the picket line December 9th at 10:00am\n\nAn 
 Injury to One is an Injury to All !\n 
 https://www.indybay.org/newsitems/2006/11/27/18333670.php
SUMMARY:Mass Picket Line and Port Shutdown! Support IBU/MM&P Ferry Workers!
LOCATION:Pier 31 1/2 on the Embarcadero San Francisco 
URL:https://www.indybay.org/newsitems/2006/11/27/18333670.php
DTSTART:20061209T180000Z
DTEND:20061209T180000Z
END:VEVENT
END:VCALENDAR
