BEGIN:VCALENDAR
VERSION:2.0
X-WR-CALNAME:www.indybay.org
PRODID:-//indybay/ical// v1.0//EN
BEGIN:VEVENT
UID:Indybay-18333553
SEQUENCE:18341455
CREATED:20061127T040500Z
DESCRIPTION:Please forward widely:\n\nJoin military resisters, their families, veterans 
 and concerned community\nmembers taking public action!\n\nNational Days of 
 Action to:\nSUPPORT GI RESISTANCE & GI RIGHTS\nEND WAR & EMPIRE\n\nRALLY & 
 PROCESSION\nSAT DEC. 9, 1pm\n\nWar Memorial Veterans Building\n401 Van Ness 
 Ave at McAllister St\n(Civic Center BART)\n\nFeaturing:\nIraq War 
 Resisters:\nDarrell Anderson, Iraq War Veteran and War Resister\nKyle 
 Snyder, AWOL Iraq Veteran and War Resister\nAnita Dennis, mother of Darrell 
 Anderson\nBob Watada & Rosa  Sakanishi, father and stepmother of Lt. Ehren 
 Watada\nJeff Paterson, Gulf War 1 Marine resister\nAlso joining us will be 
 members of IVAW and their cross-country bus!\nmore 
 TBA\n\nPlus:\nPerformance and word by:\nLocal High School Student activists 
 with AWE Youth Action Team\n\n*********************\nAlso join us earlier 
 for a\n\nPUBLIC FORUM 11am:\nGI Rights, GI Resistance and Ending the 
 War\nWar Memorial Veterans Building\n401 Van Ness Ave at McAllister 
 St\n(Civic Center BART)\n\nIn-depth stories and discussion with:\nMaxine 
 Hong Kingston, author,poet and co-author of\nthe new book, “Veterans of 
 War, Veterans of  Peace”\nDarrell Anderson, Iraq War Veteran and War 
 Resister\nAnita Dennis, mother of Darrell Anderson\nKyle Snyder, AWOL Iraq 
 Veteran and War Resister\nBob Watada & Rosa  Sakanishi, father and 
 stepmother of Lt. Ehren Watada\nand more TBA!\n\nIt's time for us to 
 escalate public pressure and action in support of the growing movement of 
 thousands of courageous men and women GI’s who have in many different 
 ways followed the their conscience, upholding international law, taking a 
 principled stand against unjust, illegal war and occupation\nand stood up 
 for their rights. Widespread public support and pressure will help create 
 true support for courageous troops facing isolation and repression, and 
 help protect their civil liberties and human rights. We call for the  
 following: 1) Support for War Objectors 2) Protect the Right to 
 Conscientious Objection 3) Protect the Liberties & Human Rights of GI's 4) 
 Sanctuary for War Objectors.\n\nYour participation in these days of 
 action—and beyond-- is crucial to realizing these goals: together, we do 
 have the power to end this war and prevent the next one. As the antiwar 
 movement builds its support for these brave people and their important 
 actions, we hope more will take a stand if we show them they won't be 
 alone.\n\nSponsored by: Courage to Resist, Watada Support Group (San 
 Francisco), Veterans for Peace-Chapter 69, AWE Youth Action Team\n\nDays of 
 Action Sponsored by (partial list):\nIraq Veterans Against the War, War 
 Resisters Support Campaign (Canada), Gold Star Families for Peace, and the 
 Central Commitee for Conscientious 
 Objectors\n\n**************************\nFor more info about the "National 
 Days of Action to Support GI Resistance and GI Rights" and an updated list 
 of participating events nationwide visit: http://www.CouragetoResist.org or 
 contact: courage@riseup.net\n 
 https://www.indybay.org/newsitems/2006/11/26/18333553.php
SUMMARY:Rally and Procession to Support GI Resistance and GI Rights!
LOCATION:War Memorial Veterans Building\n401 Van Ness Ave at McAllister St\n(Civic 
 Center BART)
URL:https://www.indybay.org/newsitems/2006/11/26/18333553.php
DTSTART:20061209T210000Z
DTEND:20061209T230000Z
END:VEVENT
END:VCALENDAR
