BEGIN:VCALENDAR
VERSION:2.0
X-WR-CALNAME:www.indybay.org
PRODID:-//indybay/ical// v1.0//EN
BEGIN:VEVENT
UID:Indybay-18333500
SEQUENCE:18341388
CREATED:20061126T215400Z
DESCRIPTION:Following two recent police shooting deaths in Eureka by EPD, organizers 
 from CopWatchLA visit Humboldt communities to strategize against police 
 brutality!!\n\nCome together with CopWatch LA to; \n\nLearn to Strategize 
 how we can protect our communities from police brutality & intimidation!! 
 \n\nOrganize and protect our communities without the police!! \n\nevents; 
 \n\nMon Nov. 27th, Tues Nov. 28th (6-8 PM) CopWatch Skillshare, further 
 discussion after 8pm \n\nMonday Nov. 27th \n@ the Labor Temple \n840 E. 
 Street \nEureka, CA \n\nTues. Nov. 28th \n@ the Bayside Grange \n2297 
 Jacoby Creek Rd. \nBayside, CA \n\n707-822-9998 
 \n\nhttp://www.baysidegrange.org/ \n\nWeds., Nov. 29th (4-6pm) \nCopWatch 
 Skillshares: Safety in Residence Halls \nHSU Green & Gold Room., Founders 
 Hall \n\nThurs., Nov. 30th (7-11pm) Community Mitote with CopWatchLA \n\n@ 
 Labor Temple \n840 E. St. \nEureka\n\nShare dinner, celebrate resistance to 
 oppression with CopWatchLA. Strenghten community and networks in resistance 
 to police brutality, violence and murder. Celebrate the lives of those who 
 have struggled with police violence. Poetry and other expression welcome! 
 \n\n\nmore info @; \nhttp://www.copwatchla.org/ \n\nand; \n\nlocal 
 sponsors/organizers; 
 \nhttp://www.humboldt.edu/~mc92/accionzapatista/welcome.html \n\nor email; 
 \nRebeldia_del_sol@riseup.net\n\n\n 
 https://www.indybay.org/newsitems/2006/11/26/18333500.php
SUMMARY:CopWatchLA Organizers Visit Humboldt for Workshops
LOCATION:Monday Nov. 27th \n@ the Labor Temple \n840 E. Street \nEureka, CA \n
URL:https://www.indybay.org/newsitems/2006/11/26/18333500.php
DTSTART:20061128T020000Z
DTEND:20061128T043000Z
END:VEVENT
END:VCALENDAR
