BEGIN:VCALENDAR
VERSION:2.0
X-WR-CALNAME:www.indybay.org
PRODID:-//indybay/ical// v1.0//EN
BEGIN:VEVENT
UID:Indybay-18332844
SEQUENCE:18340663
CREATED:20061124T200400Z
DESCRIPTION:DRINK TO MAKE ELIXIR BAR CARBON NEUTRAL!\nOn Thursday, Nov 30, 2006, join 
 the staff from Ideal Bite (www.idealbite.com), the web's top source for 
 eco-living tips and information, in making Elixir Bar (www.elixirsf.com) 
 carbon neutral. All drinks bought that night will go to funding alternative 
 energy sources to offset the carbon dioxide that's created by powering the 
 bar. \n https://www.indybay.org/newsitems/2006/11/24/18332844.php
SUMMARY:Have a Drink for Carbon Neutrality
LOCATION:Elixir Bar, 16th & Guerrero in the Mission
URL:https://www.indybay.org/newsitems/2006/11/24/18332844.php
DTSTART:20061201T040000Z
DTEND:20061201T100000Z
END:VEVENT
END:VCALENDAR
