BEGIN:VCALENDAR
VERSION:2.0
X-WR-CALNAME:www.indybay.org
PRODID:-//indybay/ical// v1.0//EN
BEGIN:VEVENT
UID:Indybay-18331430
SEQUENCE:18339124
CREATED:20061120T231500Z
DESCRIPTION:Saturday, December 9\n\nTarget Iran: How to Stop Washington's Next Regime 
 Change — San José\nWith Scott Ritter and Jeff Cohen\n\n3:30 – 6:30 
 pm\nSIEU Local 715\n2302 Zanker Road \nScott Ritter, Just returned from 
 Iran\nAuthor of “Target:: Iran,” on Bush's planned attack\nFormer UN 
 Weapons inspector in Iraq\n\nJeff Cohen\nDirector, Fairness and Accuracy in 
 Reportaing (FAIR)\nAuthor of the new “Cable News Confidential” in which 
 he describes network resistance to Ritter interview and other 
 disinformation\n\nBoth speakers will sign copies of their book.\n\nDonation 
 requested: $10 (students free, no one turned away)\n\nSponsored by:\nSouth 
 Bay Mobilization\nIranians Against War\nIn association with Don't Attack 
 Iran Coalition (Bay Area)\n\n\n 
 https://www.indybay.org/newsitems/2006/11/20/18331430.php
SUMMARY:"Target Iran" talk by Scott Ritter and Jeff Cohen
LOCATION:SIEU Local 715\n2302 Zanker Road, San Jose
URL:https://www.indybay.org/newsitems/2006/11/20/18331430.php
DTSTART:20061209T233000Z
DTEND:20061210T023000Z
END:VEVENT
END:VCALENDAR
