BEGIN:VCALENDAR
VERSION:2.0
X-WR-CALNAME:www.indybay.org
PRODID:-//indybay/ical// v1.0//EN
BEGIN:VEVENT
UID:Indybay-18330613
SEQUENCE:18338187
CREATED:20061117T205400Z
DESCRIPTION:Do you love the Bay Area’s diversity of birds and wildlife?  Looking for 
 a way to help protect and restore wildlife habitat?  Or work with an 
 environmental education program for underserved youth?  Perhaps a way to 
 volunteer with an area non-profit dedicated to serving local conservation 
 needs?  This is your chance!\n	\nThe Golden Gate Audubon Society will hold 
 its quarterly Volunteer Orientation Night on Wednesday, December 13, from 
 7:00 to 9:00pm at the Golden Gate Audubon headquarters (2530 San Pablo 
 Avenue, Suite G, in Berkeley).  This orientation is designed to provide you 
 with the understanding and skills needed to successfully represent Golden 
 Gate Audubon and speak knowledgeably about our work to conserve local birds 
 and their habitat.  Come join us to learn more about our conservation and 
 education programs, our staff and volunteers, and the many ways you can 
 help us in our efforts to protect and enjoy Bay Area wildlife. \n\nThe 
 Volunteer Orientation Night is a great way to learn more about our work, 
 how you can help, and meet other people interested in local birds and 
 wildlife.  We’ll also provide free pizza and refreshments for everyone 
 who attends.\n\nPlease RSVP for the orientation by emailing Michael Martin 
 at mmartin@goldengateaudubon.org or by calling (510) 843-7295.  Please 
 respond no later than Wednesday, December 6. \n\nWe look forward to 
 welcoming you to the work and fun of volunteering with Golden Gate Audubon. 
 Your work helps make a real difference for local birds and their 
 habitats!\n\n\n https://www.indybay.org/newsitems/2006/11/17/18330613.php
SUMMARY:Golden Gate Audubon's Orientation Night!!
LOCATION:2530 San Pablo Avenue, Suite G  •  Berkeley, California 94702\nPhone: 
 (510) 843-2222  •  Fax: (510) 843-5351  •  Email: 
 ggas@goldengateaudubon.org\n
URL:https://www.indybay.org/newsitems/2006/11/17/18330613.php
DTSTART:20060717T190000Z
DTEND:20060717T210000Z
END:VEVENT
END:VCALENDAR
